BEGIN:VCALENDAR
VERSION:2.0
PRODID:-//Bear Lake Valley CVB Utah and Idaho - ECPv6.15.17.1//NONSGML v1.0//EN
CALSCALE:GREGORIAN
METHOD:PUBLISH
X-ORIGINAL-URL:https://bearlake.org
X-WR-CALDESC:Events for Bear Lake Valley CVB Utah and Idaho
REFRESH-INTERVAL;VALUE=DURATION:PT1H
X-Robots-Tag:noindex
X-PUBLISHED-TTL:PT1H
BEGIN:VTIMEZONE
TZID:America/Denver
BEGIN:DAYLIGHT
TZOFFSETFROM:-0700
TZOFFSETTO:-0600
TZNAME:MDT
DTSTART:20250309T090000
END:DAYLIGHT
BEGIN:STANDARD
TZOFFSETFROM:-0600
TZOFFSETTO:-0700
TZNAME:MST
DTSTART:20251102T080000
END:STANDARD
BEGIN:DAYLIGHT
TZOFFSETFROM:-0700
TZOFFSETTO:-0600
TZNAME:MDT
DTSTART:20260308T090000
END:DAYLIGHT
BEGIN:STANDARD
TZOFFSETFROM:-0600
TZOFFSETTO:-0700
TZNAME:MST
DTSTART:20261101T080000
END:STANDARD
BEGIN:DAYLIGHT
TZOFFSETFROM:-0700
TZOFFSETTO:-0600
TZNAME:MDT
DTSTART:20270314T090000
END:DAYLIGHT
BEGIN:STANDARD
TZOFFSETFROM:-0600
TZOFFSETTO:-0700
TZNAME:MST
DTSTART:20271107T080000
END:STANDARD
END:VTIMEZONE
BEGIN:VEVENT
DTSTART;VALUE=DATE:20260606
DTEND;VALUE=DATE:20260608
DTSTAMP:20260421T104808
CREATED:20250418T180538Z
LAST-MODIFIED:20260210T214231Z
UID:10000204-1780707600-1780793999@bearlake.org
SUMMARY:Utah Free Fishing Day
DESCRIPTION:All anglers\, residents and nonresidents\, can celebrate the day by fishing the UTAH side of Bear lake without a license! If you’ve never been fishing\, this is a great day to learn. All other fishing rules and regulations including creel limits\, opening dates and tackle restrictions remain in effect. Download a copy of the Utah Fishing Guidebook.
URL:https://bearlake.org/event/utah-free-fishing-day/
LOCATION:Fish Haven\, Idaho\, 2695 US-89\, Fish Haven\, ID\, 83287\, United States
CATEGORIES:Annual Events,Sports
ATTACH;FMTTYPE=image/jpeg:https://bearlake.org/wp-content/uploads/fishing-tournament-raspberry-days.jpg
GEO:37.09024;-95.712891
X-APPLE-STRUCTURED-LOCATION;VALUE=URI;X-ADDRESS=Fish Haven Idaho 2695 US-89 Fish Haven ID 83287 United States;X-APPLE-RADIUS=500;X-TITLE=2695 US-89:geo:-95.712891,37.09024
END:VEVENT
BEGIN:VEVENT
DTSTART;VALUE=DATE:20260613
DTEND;VALUE=DATE:20260615
DTSTAMP:20260421T104808
CREATED:20190523T172121Z
LAST-MODIFIED:20260210T214512Z
UID:10000015-1781312400-1781398799@bearlake.org
SUMMARY:Idaho Free Fishing Day
DESCRIPTION:All anglers\, residents and nonresidents\, can celebrate the day by fishing the Idaho side of Bear lake without a license! If you’ve never been fishing\, this is a great day to learn. All other fishing rules and regulations including creel limits\, opening dates and tackle restrictions remain in effect. Check the Idaho Seasons and Rules. Download a copy of the Utah Fishing Guidebook.
URL:https://bearlake.org/event/idaho-free-fishing-day/
LOCATION:Fish Haven\, Idaho\, 2695 US-89\, Fish Haven\, ID\, 83287\, United States
CATEGORIES:Annual Events,Sports
ATTACH;FMTTYPE=image/jpeg:https://bearlake.org/wp-content/uploads/idaho-free-fishing-day-1.jpg
GEO:37.09024;-95.712891
X-APPLE-STRUCTURED-LOCATION;VALUE=URI;X-ADDRESS=Fish Haven Idaho 2695 US-89 Fish Haven ID 83287 United States;X-APPLE-RADIUS=500;X-TITLE=2695 US-89:geo:-95.712891,37.09024
END:VEVENT
BEGIN:VEVENT
DTSTART;VALUE=DATE:20260925
DTEND;VALUE=DATE:20260928
DTSTAMP:20260421T104808
CREATED:20190523T173356Z
LAST-MODIFIED:20260210T220258Z
UID:10000001-1790298000-1790470799@bearlake.org
SUMMARY:Bear 100 Endurance Run
DESCRIPTION:A cool\, Autumn loop through the pines\, golden aspen and red maples in Bear Lake. 100 Miles\, 22\, 518′ of climb. Begins at the mouth of Logan Dry Canyon and ends in Fish Haven\, Idaho.
URL:https://bearlake.org/event/bear-100-endurance-run/
LOCATION:Fish Haven\, Idaho\, 2695 US-89\, Fish Haven\, ID\, 83287\, United States
CATEGORIES:Sports
ATTACH;FMTTYPE=image/jpeg:https://bearlake.org/wp-content/uploads/bear-100-endurance-run.jpg
GEO:37.09024;-95.712891
X-APPLE-STRUCTURED-LOCATION;VALUE=URI;X-ADDRESS=Fish Haven Idaho 2695 US-89 Fish Haven ID 83287 United States;X-APPLE-RADIUS=500;X-TITLE=2695 US-89:geo:-95.712891,37.09024
END:VEVENT
END:VCALENDAR