BEGIN:VCALENDAR
VERSION:2.0
PRODID:-//Bear Lake Valley CVB Utah and Idaho - ECPv6.15.17.1//NONSGML v1.0//EN
CALSCALE:GREGORIAN
METHOD:PUBLISH
X-ORIGINAL-URL:https://bearlake.org
X-WR-CALDESC:Events for Bear Lake Valley CVB Utah and Idaho
REFRESH-INTERVAL;VALUE=DURATION:PT1H
X-Robots-Tag:noindex
X-PUBLISHED-TTL:PT1H
BEGIN:VTIMEZONE
TZID:America/Denver
BEGIN:DAYLIGHT
TZOFFSETFROM:-0700
TZOFFSETTO:-0600
TZNAME:MDT
DTSTART:20180311T090000
END:DAYLIGHT
BEGIN:STANDARD
TZOFFSETFROM:-0600
TZOFFSETTO:-0700
TZNAME:MST
DTSTART:20181104T080000
END:STANDARD
BEGIN:DAYLIGHT
TZOFFSETFROM:-0700
TZOFFSETTO:-0600
TZNAME:MDT
DTSTART:20190310T090000
END:DAYLIGHT
BEGIN:STANDARD
TZOFFSETFROM:-0600
TZOFFSETTO:-0700
TZNAME:MST
DTSTART:20191103T080000
END:STANDARD
BEGIN:DAYLIGHT
TZOFFSETFROM:-0700
TZOFFSETTO:-0600
TZNAME:MDT
DTSTART:20200308T090000
END:DAYLIGHT
BEGIN:STANDARD
TZOFFSETFROM:-0600
TZOFFSETTO:-0700
TZNAME:MST
DTSTART:20201101T080000
END:STANDARD
END:VTIMEZONE
BEGIN:VEVENT
DTSTART;VALUE=DATE:20190725
DTEND;VALUE=DATE:20190805
DTSTAMP:20260419T151320
CREATED:20190523T171116Z
LAST-MODIFIED:20190524T071824Z
UID:10000031-1564016400-1564880399@bearlake.org
SUMMARY:Annie the Musical
DESCRIPTION:The world’s best-loved musical will be performed in Montpelier Idaho! Annie is a complex\, tough\, streetwise orphan. She is eleven years old. While she comes across as spunky\, she is also very motherly to other orphans. Dates are July 25\, 26\, 27\, 29 and August 2 and 3.
URL:https://bearlake.org/event/annie-the-musical/
LOCATION:Bear Lake High School\, 330 Boise St\, Montpelier\, Idaho\, 83254
CATEGORIES:Theatre
ATTACH;FMTTYPE=image/jpeg:https://bearlake.org/wp-content/uploads/annie-play-1.jpg
END:VEVENT
END:VCALENDAR