BEGIN:VCALENDAR
VERSION:2.0
PRODID:-//Bear Lake Valley CVB Utah and Idaho - ECPv6.15.17.1//NONSGML v1.0//EN
CALSCALE:GREGORIAN
METHOD:PUBLISH
X-ORIGINAL-URL:https://bearlake.org
X-WR-CALDESC:Events for Bear Lake Valley CVB Utah and Idaho
REFRESH-INTERVAL;VALUE=DURATION:PT1H
X-Robots-Tag:noindex
X-PUBLISHED-TTL:PT1H
BEGIN:VTIMEZONE
TZID:America/Denver
BEGIN:DAYLIGHT
TZOFFSETFROM:-0700
TZOFFSETTO:-0600
TZNAME:MDT
DTSTART:20250309T090000
END:DAYLIGHT
BEGIN:STANDARD
TZOFFSETFROM:-0600
TZOFFSETTO:-0700
TZNAME:MST
DTSTART:20251102T080000
END:STANDARD
BEGIN:DAYLIGHT
TZOFFSETFROM:-0700
TZOFFSETTO:-0600
TZNAME:MDT
DTSTART:20260308T090000
END:DAYLIGHT
BEGIN:STANDARD
TZOFFSETFROM:-0600
TZOFFSETTO:-0700
TZNAME:MST
DTSTART:20261101T080000
END:STANDARD
BEGIN:DAYLIGHT
TZOFFSETFROM:-0700
TZOFFSETTO:-0600
TZNAME:MDT
DTSTART:20270314T090000
END:DAYLIGHT
BEGIN:STANDARD
TZOFFSETFROM:-0600
TZOFFSETTO:-0700
TZNAME:MST
DTSTART:20271107T080000
END:STANDARD
END:VTIMEZONE
BEGIN:VEVENT
DTSTART;TZID=America/Denver:20260807T193000
DTEND;TZID=America/Denver:20260808T220000
DTSTAMP:20260422T071507
CREATED:20220803T042511Z
LAST-MODIFIED:20260210T215252Z
UID:10000082-1786131000-1786226400@bearlake.org
SUMMARY:Laketown Raspberry Days Rodeo
DESCRIPTION:The Laketown Rodeo will be held both Friday and Saturday nights at 7:30 pm during Raspberry Days. Gate opens at 5 p.m.  Tickets available for purchase at some businesses in Garden City and at the gate the day of the Rodeo. Tickets will be available online on their website homepage the end of July.
URL:https://bearlake.org/event/laketown-raspberry-days-rodeo/
LOCATION:Laketown Arena\, 275 East 250 South Street\,\, Laketown\, Utah\, 84038\, United States
CATEGORIES:Rodeos
ATTACH;FMTTYPE=image/jpeg:https://bearlake.org/wp-content/uploads/laketown-rodeo-raspberry-days.jpg
GEO:41.8204319;-111.315262
X-APPLE-STRUCTURED-LOCATION;VALUE=URI;X-ADDRESS=Laketown Arena 275 East 250 South Street Laketown Utah 84038 United States;X-APPLE-RADIUS=500;X-TITLE=275 East 250 South Street\,:geo:-111.315262,41.8204319
END:VEVENT
BEGIN:VEVENT
DTSTART;VALUE=DATE:20260810
DTEND;VALUE=DATE:20260817
DTSTAMP:20260422T071507
CREATED:20160714T171450Z
LAST-MODIFIED:20260210T215617Z
UID:10000024-1786323600-1786841999@bearlake.org
SUMMARY:Rich County Fair
DESCRIPTION:Rodeo\, Concert\, Livestock Show\, Parade\, and Fireworks! Held at the fairgrounds in Randolph\, Utah. 
URL:https://bearlake.org/event/rich-county-fair-rodeo/
LOCATION:Rich County Fair Grounds\, 30 East Church Street\, Randolph\, United States\, 84064\, United States
CATEGORIES:Annual Events,Rodeos
ATTACH;FMTTYPE=image/jpeg:https://bearlake.org/wp-content/uploads/rich-county-fair-1.jpg
GEO:41.665942;-111.183817
X-APPLE-STRUCTURED-LOCATION;VALUE=URI;X-ADDRESS=Rich County Fair Grounds 30 East Church Street Randolph United States 84064 United States;X-APPLE-RADIUS=500;X-TITLE=30 East Church Street:geo:-111.183817,41.665942
END:VEVENT
BEGIN:VEVENT
DTSTART;VALUE=DATE:20260810
DTEND;VALUE=DATE:20260817
DTSTAMP:20260422T071507
CREATED:20160714T171744Z
LAST-MODIFIED:20260210T220615Z
UID:10000047-1786323600-1786841999@bearlake.org
SUMMARY:Bear Lake County Fair
DESCRIPTION:Bring the family for some good old fashioned fun! Rodeo\, Carnival\, Concert\, Demolition Derby\, Parade\, Exhibits and more.  Parade\, concerts\, horse pulls\, hypnotist\, rodeo\, and truck pulls. 
URL:https://bearlake.org/event/bear-lake-county-fair/
LOCATION:Bear Lake County Fair Grounds\, 21558 U.S. 30\, Montpelier\, ID\, 83254\, United States
CATEGORIES:Annual Events,Rodeos
ATTACH;FMTTYPE=image/jpeg:https://bearlake.org/wp-content/uploads/bear-lake-county-fair-1.jpg
GEO:42.3239189;-111.2823492
X-APPLE-STRUCTURED-LOCATION;VALUE=URI;X-ADDRESS=Bear Lake County Fair Grounds 21558 U.S. 30 Montpelier ID 83254 United States;X-APPLE-RADIUS=500;X-TITLE=21558 U.S. 30:geo:-111.2823492,42.3239189
END:VEVENT
END:VCALENDAR