BEGIN:VCALENDAR
VERSION:2.0
PRODID:-//Bear Lake Valley CVB Utah and Idaho - ECPv6.15.17.1//NONSGML v1.0//EN
CALSCALE:GREGORIAN
METHOD:PUBLISH
X-ORIGINAL-URL:https://bearlake.org
X-WR-CALDESC:Events for Bear Lake Valley CVB Utah and Idaho
REFRESH-INTERVAL;VALUE=DURATION:PT1H
X-Robots-Tag:noindex
X-PUBLISHED-TTL:PT1H
BEGIN:VTIMEZONE
TZID:America/Denver
BEGIN:DAYLIGHT
TZOFFSETFROM:-0700
TZOFFSETTO:-0600
TZNAME:MDT
DTSTART:20250309T090000
END:DAYLIGHT
BEGIN:STANDARD
TZOFFSETFROM:-0600
TZOFFSETTO:-0700
TZNAME:MST
DTSTART:20251102T080000
END:STANDARD
BEGIN:DAYLIGHT
TZOFFSETFROM:-0700
TZOFFSETTO:-0600
TZNAME:MDT
DTSTART:20260308T090000
END:DAYLIGHT
BEGIN:STANDARD
TZOFFSETFROM:-0600
TZOFFSETTO:-0700
TZNAME:MST
DTSTART:20261101T080000
END:STANDARD
BEGIN:DAYLIGHT
TZOFFSETFROM:-0700
TZOFFSETTO:-0600
TZNAME:MDT
DTSTART:20270314T090000
END:DAYLIGHT
BEGIN:STANDARD
TZOFFSETFROM:-0600
TZOFFSETTO:-0700
TZNAME:MST
DTSTART:20271107T080000
END:STANDARD
END:VTIMEZONE
BEGIN:VEVENT
DTSTART;VALUE=DATE:20260526
DTEND;VALUE=DATE:20261001
DTSTAMP:20260421T153925
CREATED:20250516T201850Z
LAST-MODIFIED:20260210T213730Z
UID:10000205-1779757200-1790729999@bearlake.org
SUMMARY:Montpelier Farmers Market
DESCRIPTION:Market vendors selling produce\, bread\, honey\, jewelry\, cheese\, signs\, and so much more! Food\, Music\, don’t miss it! Held each Tuesday afternoon from the end of May through mid September. See their Facebook event for details.
URL:https://bearlake.org/event/montpelier-farmers-market/
LOCATION:Montpelier Farmers Market\, 186 N 4th St\, Montpelier\, ID\, 83254\, United States
CATEGORIES:Arts,Community
ATTACH;FMTTYPE=image/jpeg:https://bearlake.org/wp-content/uploads/montpelier-idaho-farmers-market.jpg
END:VEVENT
BEGIN:VEVENT
DTSTART;VALUE=DATE:20260605
DTEND;VALUE=DATE:20260913
DTSTAMP:20260421T153925
CREATED:20240416T010423Z
LAST-MODIFIED:20260210T212906Z
UID:10000197-1780621200-1789174799@bearlake.org
SUMMARY:Bear Lake Valley Farmer's Market
DESCRIPTION:Market Vendors: produce\, bread\, honey\, jewelry\, cheese\, signs\, and so much more! Food\, Music\, don’t miss it! Held each Friday afternoon from the end of May through the middle of September. See their Facebook event for details.
URL:https://bearlake.org/event/bear-lake-valley-farmers-market/
LOCATION:Conestoga Ranch\, 400 West 300 North\, Garden City\, UT 84028\, USA\, Garden City\, United States\, United States
CATEGORIES:Arts
ATTACH;FMTTYPE=image/jpeg:https://bearlake.org/wp-content/uploads/bear-lake-valley-farmers-market-garden-city-utah.jpg
GEO:41.9499692;-111.4002129
X-APPLE-STRUCTURED-LOCATION;VALUE=URI;X-ADDRESS=Conestoga Ranch 400 West 300 North Garden City UT 84028 USA Garden City United States United States;X-APPLE-RADIUS=500;X-TITLE=400 West 300 North\, Garden City\, UT 84028\, USA:geo:-111.4002129,41.9499692
END:VEVENT
END:VCALENDAR