BEGIN:VCALENDAR
VERSION:2.0
PRODID:-//Bear Lake Valley CVB Utah and Idaho - ECPv6.15.17.1//NONSGML v1.0//EN
CALSCALE:GREGORIAN
METHOD:PUBLISH
X-ORIGINAL-URL:https://bearlake.org
X-WR-CALDESC:Events for Bear Lake Valley CVB Utah and Idaho
REFRESH-INTERVAL;VALUE=DURATION:PT1H
X-Robots-Tag:noindex
X-PUBLISHED-TTL:PT1H
BEGIN:VTIMEZONE
TZID:America/Denver
BEGIN:DAYLIGHT
TZOFFSETFROM:-0700
TZOFFSETTO:-0600
TZNAME:MDT
DTSTART:20200308T090000
END:DAYLIGHT
BEGIN:STANDARD
TZOFFSETFROM:-0600
TZOFFSETTO:-0700
TZNAME:MST
DTSTART:20201101T080000
END:STANDARD
BEGIN:DAYLIGHT
TZOFFSETFROM:-0700
TZOFFSETTO:-0600
TZNAME:MDT
DTSTART:20210314T090000
END:DAYLIGHT
BEGIN:STANDARD
TZOFFSETFROM:-0600
TZOFFSETTO:-0700
TZNAME:MST
DTSTART:20211107T080000
END:STANDARD
BEGIN:DAYLIGHT
TZOFFSETFROM:-0700
TZOFFSETTO:-0600
TZNAME:MDT
DTSTART:20220313T090000
END:DAYLIGHT
BEGIN:STANDARD
TZOFFSETFROM:-0600
TZOFFSETTO:-0700
TZNAME:MST
DTSTART:20221106T080000
END:STANDARD
END:VTIMEZONE
BEGIN:VEVENT
DTSTART;VALUE=DATE:20210528
DTEND;VALUE=DATE:20210530
DTSTAMP:20260419T062249
CREATED:20190523T054406Z
LAST-MODIFIED:20210504T023713Z
UID:10000005-1622163600-1622249999@bearlake.org
SUMMARY:Oregon Trail Opens
DESCRIPTION:Step back in time without leaving town. Visit their website for hours and details.
URL:https://bearlake.org/event/oregon-trail-grand-opening/
LOCATION:National Oregon/California Trail Center\, 320 N 4th St\, Montpelier\, ID\, 83254\, United States
CATEGORIES:Annual
ATTACH;FMTTYPE=image/jpeg:https://bearlake.org/wp-content/uploads/oregon-trail-opens.jpg
GEO:42.3223263;-111.2977902
X-APPLE-STRUCTURED-LOCATION;VALUE=URI;X-ADDRESS=National Oregon/California Trail Center 320 N 4th St Montpelier ID 83254 United States;X-APPLE-RADIUS=500;X-TITLE=320 N 4th St:geo:-111.2977902,42.3223263
END:VEVENT
END:VCALENDAR